BEGIN:VCALENDAR
VERSION:2.0
PRODID:-//hacksw/handcal//NONSGML v1.0//EN
BEGIN:VEVENT
DTSTAMP:20250724T160000Z
DTSTART:20250724T160000Z
DTEND:20250724T160000Z
SUMMARY:CDU vor Ort: Begehung "Nordend"
END:VEVENT
END:VCALENDAR
