BEGIN:VCALENDAR
VERSION:2.0
PRODID:-//hacksw/handcal//NONSGML v1.0//EN
BEGIN:VEVENT
DTSTAMP:20250516T150000Z
DTSTART:20250516T150000Z
DTEND:20250516T170000Z
SUMMARY:CDU vor Ort - Digital Natives
END:VEVENT
END:VCALENDAR
