BEGIN:VCALENDAR
VERSION:2.0
PRODID:-//hacksw/handcal//NONSGML v1.0//EN
BEGIN:VEVENT
DTSTAMP:20250310T180000Z
DTSTART:20250310T180000Z
DTEND:20250310T180000Z
SUMMARY:„Geht mich das was an? - Warum Gewalt gegen Frauen uns alle betrifft.“
END:VEVENT
END:VCALENDAR
