BEGIN:VCALENDAR
VERSION:2.0
PRODID:-//hacksw/handcal//NONSGML v1.0//EN
BEGIN:VEVENT
DTSTAMP:20240604T170000Z
DTSTART:20240604T170000Z
DTEND:20240604T170000Z
SUMMARY:Unsicherheit - Ängste - Gewalt? - Wie steht es um die Sicherheit für Frauen
END:VEVENT
END:VCALENDAR
