BEGIN:VCALENDAR
VERSION:2.0
PRODID:-//hacksw/handcal//NONSGML v1.0//EN
BEGIN:VEVENT
DTSTAMP:20230818T160000Z
DTSTART:20230818T160000Z
DTEND:20230818T160000Z
SUMMARY:Sommerbegehung der CDU-Fraktion - Ziehers Süd / Klinikum
END:VEVENT
END:VCALENDAR
