BEGIN:VCALENDAR
VERSION:2.0
PRODID:-//hacksw/handcal//NONSGML v1.0//EN
BEGIN:VEVENT
DTSTAMP:20230612T170000Z
DTSTART:20230612T170000Z
DTEND:20230612T170000Z
SUMMARY:Akademiabend: Frauen! Wo geht der Weg hin?
END:VEVENT
END:VCALENDAR
