BEGIN:VCALENDAR
VERSION:2.0
PRODID:-//hacksw/handcal//NONSGML v1.0//EN
BEGIN:VEVENT
DTSTAMP:20220803T150000Z
DTSTART:20220803T150000Z
DTEND:20220803T170000Z
SUMMARY:Schießen um den Bürgerpokal
END:VEVENT
END:VCALENDAR
