BEGIN:VCALENDAR
VERSION:2.0
PRODID:-//hacksw/handcal//NONSGML v1.0//EN
BEGIN:VEVENT
DTSTAMP:20220819T160000Z
DTSTART:20220819T160000Z
DTEND:20220819T160000Z
SUMMARY:Sommerbegehung der CDU-Fraktion in Rodges und im Technologiepark Fulda West
END:VEVENT
END:VCALENDAR
