BEGIN:VCALENDAR
VERSION:2.0
PRODID:-//hacksw/handcal//NONSGML v1.0//EN
BEGIN:VEVENT
DTSTAMP:20220805T160000Z
DTSTART:20220805T160000Z
DTEND:20220805T160000Z
SUMMARY:Sommerbegehung der CDU-Fraktion im Stadion und in der Fulda Aue
END:VEVENT
END:VCALENDAR
