BEGIN:VCALENDAR
VERSION:2.0
PRODID:-//hacksw/handcal//NONSGML v1.0//EN
BEGIN:VEVENT
DTSTAMP:20211026T160000Z
DTSTART:20211026T160000Z
DTEND:20211026T160000Z
SUMMARY:Stadtverordnetenversammlung
END:VEVENT
END:VCALENDAR
