BEGIN:VCALENDAR
VERSION:2.0
PRODID:-//hacksw/handcal//NONSGML v1.0//EN
BEGIN:VEVENT
DTSTAMP:20210827T170000Z
DTSTART:20210827T170000Z
DTEND:20210827T183000Z
SUMMARY:Direkter Dialog mit Kanzleramts-Chef Helge Braun MdB
END:VEVENT
END:VCALENDAR
