BEGIN:VCALENDAR
VERSION:2.0
PRODID:-//hacksw/handcal//NONSGML v1.0//EN
BEGIN:VEVENT
DTSTAMP:20210802T140000Z
DTSTART:20210802T140000Z
DTEND:20210802T140000Z
SUMMARY:Wahlkampfauftakt 2 mit Ralph Brinkmann MdB
END:VEVENT
END:VCALENDAR
