BEGIN:VCALENDAR
VERSION:2.0
PRODID:-//hacksw/handcal//NONSGML v1.0//EN
BEGIN:VEVENT
DTSTAMP:20210808T123000Z
DTSTART:20210808T123000Z
DTEND:20210808T123000Z
SUMMARY:Sommer- und Familienfest Seniorenunion + CDU Ziehers Nord
END:VEVENT
END:VCALENDAR
