BEGIN:VCALENDAR
VERSION:2.0
PRODID:-//hacksw/handcal//NONSGML v1.0//EN
BEGIN:VEVENT
DTSTAMP:20191203T133000Z
DTSTART:20191203T133000Z
DTEND:20191203T133000Z
SUMMARY:Senioren im Visier Krimineller – Senioren sind auf Zack
END:VEVENT
END:VCALENDAR
