BEGIN:VCALENDAR
VERSION:2.0
PRODID:-//hacksw/handcal//NONSGML v1.0//EN
BEGIN:VEVENT
DTSTAMP:20190603T163000Z
DTSTART:20190603T163000Z
DTEND:20190603T163000Z
SUMMARY:HEIMATkompass: Werte - Ziele - Traditionen
END:VEVENT
END:VCALENDAR
