BEGIN:VCALENDAR
VERSION:2.0
PRODID:-//hacksw/handcal//NONSGML v1.0//EN
BEGIN:VEVENT
DTSTAMP:20190705T160000Z
DTSTART:20190705T160000Z
DTEND:20190705T160000Z
SUMMARY:CDU-Fraktion vor Ort: Gläserzell, Kämmerzell, Lüdermünd
END:VEVENT
END:VCALENDAR
