BEGIN:VCALENDAR
VERSION:2.0
PRODID:-//hacksw/handcal//NONSGML v1.0//EN
BEGIN:VEVENT
DTSTAMP:20190408T170000Z
DTSTART:20190408T170000Z
DTEND:20190408T170000Z
SUMMARY:Europa - Spitzenkandidat Prof. Dr. Sven Simon kommt!
END:VEVENT
END:VCALENDAR
