BEGIN:VCALENDAR
VERSION:2.0
PRODID:-//hacksw/handcal//NONSGML v1.0//EN
BEGIN:VEVENT
DTSTAMP:20190125T163000Z
DTSTART:20190125T163000Z
DTEND:20190125T180000Z
SUMMARY:Annegret Kramp-Karrenbauer kommt nach Fulda
END:VEVENT
END:VCALENDAR
