BEGIN:VCALENDAR
VERSION:2.0
PRODID:-//hacksw/handcal//NONSGML v1.0//EN
BEGIN:VEVENT
DTSTAMP:20181027T080000Z
DTSTART:20181027T080000Z
DTEND:20181027T080000Z
SUMMARY:Infostand zur Landtagswahl
END:VEVENT
END:VCALENDAR
