BEGIN:VCALENDAR
VERSION:2.0
PRODID:-//hacksw/handcal//NONSGML v1.0//EN
BEGIN:VEVENT
DTSTAMP:20180906T163000Z
DTSTART:20180906T163000Z
DTEND:20180906T163000Z
SUMMARY:Hering oder Wurst - Infos mit Thomas Hering
END:VEVENT
END:VCALENDAR
