BEGIN:VCALENDAR
VERSION:2.0
PRODID:-//hacksw/handcal//NONSGML v1.0//EN
BEGIN:VEVENT
DTSTAMP:20180816T180000Z
DTSTART:20180816T180000Z
DTEND:20180816T180000Z
SUMMARY:"Koch & Talk" - Wahlkampfauftakt mit Meysner und Hering
END:VEVENT
END:VCALENDAR
