BEGIN:VCALENDAR
VERSION:2.0
PRODID:-//hacksw/handcal//NONSGML v1.0//EN
BEGIN:VEVENT
DTSTAMP:20180731T160000Z
DTSTART:20180731T160000Z
DTEND:20180731T160000Z
SUMMARY:Innenminister Beuth kommt nach Fulda
END:VEVENT
END:VCALENDAR
