BEGIN:VCALENDAR
VERSION:2.0
PRODID:-//hacksw/handcal//NONSGML v1.0//EN
BEGIN:VEVENT
DTSTAMP:20180629T160000Z
DTSTART:20180629T160000Z
DTEND:20180629T160000Z
SUMMARY:Sommerbegehung der CDU-Fraktion am Frauenberg
END:VEVENT
END:VCALENDAR
