BEGIN:VCALENDAR
VERSION:2.0
PRODID:-//hacksw/handcal//NONSGML v1.0//EN
BEGIN:VEVENT
DTSTAMP:20180518T130000Z
DTSTART:20180518T130000Z
DTEND:20180518T150000Z
SUMMARY:Zuhör-Tour mit Annegret Kramp-Karrenbauer
END:VEVENT
END:VCALENDAR
