BEGIN:VCALENDAR
VERSION:2.0
PRODID:-//hacksw/handcal//NONSGML v1.0//EN
BEGIN:VEVENT
DTSTAMP:20180525T170000Z
DTSTART:20180525T170000Z
DTEND:20180525T170000Z
SUMMARY:Informationsveranstaltung mit MdB Michael Brand
END:VEVENT
END:VCALENDAR
