BEGIN:VCALENDAR
VERSION:2.0
PRODID:-//hacksw/handcal//NONSGML v1.0//EN
BEGIN:VEVENT
DTSTAMP:20170816T153000Z
DTSTART:20170816T153000Z
DTEND:20170816T163000Z
SUMMARY:"Im Einsatz für Schutz und Sicherheit" mit BM Dr. Ursula von der Leyen
END:VEVENT
END:VCALENDAR
