BEGIN:VCALENDAR
VERSION:2.0
PRODID:-//hacksw/handcal//NONSGML v1.0//EN
BEGIN:VEVENT
DTSTAMP:20170830T153000Z
DTSTART:20170830T153000Z
DTEND:20170830T153000Z
SUMMARY:Bekannte Frauen in Fulda
END:VEVENT
END:VCALENDAR
