BEGIN:VCALENDAR
VERSION:2.0
PRODID:-//hacksw/handcal//NONSGML v1.0//EN
BEGIN:VEVENT
DTSTAMP:20170802T150000Z
DTSTART:20170802T150000Z
DTEND:20170802T170000Z
SUMMARY:Preisschießen um den CDU-Bürgerpokal
END:VEVENT
END:VCALENDAR
