BEGIN:VCALENDAR
VERSION:2.0
PRODID:-//hacksw/handcal//NONSGML v1.0//EN
BEGIN:VEVENT
DTSTAMP:20170714T160000Z
DTSTART:20170714T160000Z
DTEND:20170714T160000Z
SUMMARY:Begehung der CDU-Stadtverordnetenfraktion in Maberzell
END:VEVENT
END:VCALENDAR
